BEGIN:VCALENDAR
PRODID:-//kirchenweb.ch gmbh//veranstaltungsausgabe v2.0//DE
VERSION:2.0
METHOD:PUBLISH
BEGIN:VEVENT
DTSTART:20260425T071500Z
DTEND:20260425T093000Z
LOCATION:Pfarreisääli katholische Kirche Hägglingen\, Chilerain 2\,
  5607 Hägglingen
TRANSP:OPAQUE
SEQUENCE:0
UID:3109-veranstaltung@kirchgemeinde-ammerswil.ch
DTSTAMP:20250520T073152Z
DESCRIPTION:Kontakt: Mirjam Schmid\n\nWeitere Infos:
  https://www.kirchgemeinde-ammerswil.ch/veranstaltung/3109
SUMMARY:Religionsunterricht 3./4. Klasse (Gruppe C - Teil 4)
PRIORITY:5
X-MICROSOFT-CDO-IMPORTANCE:1
CLASS:PUBLIC
END:VEVENT
END:VCALENDAR
