BEGIN:VCALENDAR
PRODID:-//kirchenweb.ch gmbh//veranstaltungsausgabe v2.0//DE
VERSION:2.0
METHOD:PUBLISH
BEGIN:VEVENT
DTSTART:20260610T163000Z
DTEND:20260610T203000Z
LOCATION:Ort noch nicht bekannt\, \,
TRANSP:OPAQUE
SEQUENCE:0
UID:3146-veranstaltung@kirchgemeinde-ammerswil.ch
DTSTAMP:20260310T070321Z
DESCRIPTION:Kontakt: Nadja Deflorin\n\nWeitere Infos:
  https://www.kirchgemeinde-ammerswil.ch/veranstaltung/3146
SUMMARY:Nach-KONF-Treffen
PRIORITY:5
X-MICROSOFT-CDO-IMPORTANCE:1
CLASS:PUBLIC
END:VEVENT
END:VCALENDAR
