BEGIN:VCALENDAR
PRODID:-//kirchenweb.ch gmbh//veranstaltungsausgabe v2.0//DE
VERSION:2.0
METHOD:PUBLISH
BEGIN:VEVENT
DTSTART:20260510T081500Z
DTEND:20260510T091500Z
LOCATION:Kirche Ammerswil\, Hendschikerstrasse 12\, 5600 Ammerswil
TRANSP:OPAQUE
SEQUENCE:0
UID:3172-veranstaltung@kirchgemeinde-ammerswil.ch
DTSTAMP:20260224T064252Z
DESCRIPTION:Kontakt: Pfarrer Michael Lo Sardo\n\nWeitere Infos:
  https://www.kirchgemeinde-ammerswil.ch/veranstaltung/3172
SUMMARY:Muttertags-Gottesdienst
PRIORITY:5
X-MICROSOFT-CDO-IMPORTANCE:1
CLASS:PUBLIC
END:VEVENT
END:VCALENDAR
