BEGIN:VCALENDAR
PRODID:-//kirchenweb.ch gmbh//veranstaltungsausgabe v2.0//DE
VERSION:2.0
METHOD:PUBLISH
BEGIN:VEVENT
DTSTART:20260430T170000Z
DTEND:20260430T180000Z
LOCATION:Remise im Pfarrhof Ammerswil\, Hendschikerstrasse 12\, 5600
  Ammerswil
TRANSP:OPAQUE
SEQUENCE:0
UID:3370-veranstaltung@kirchgemeinde-ammerswil.ch
DTSTAMP:20260309T093458Z
DESCRIPTION:Zeit der Ruhe und Besinnung\n\nKontakt: Pfarrer Michael Lo
  Sardo\n\nWeitere Infos:
  https://www.kirchgemeinde-ammerswil.ch/veranstaltung/3370
SUMMARY:Auszeit
PRIORITY:5
X-MICROSOFT-CDO-IMPORTANCE:1
CLASS:PUBLIC
END:VEVENT
END:VCALENDAR
