BEGIN:VCALENDAR
PRODID:-//kirchenweb.ch gmbh//veranstaltungsausgabe v2.0//DE
VERSION:2.0
METHOD:PUBLISH
BEGIN:VEVENT
DTSTART:20260827T070000Z
DTEND:20260827T160000Z
LOCATION:Fahrt ins Blaue\, \,
TRANSP:OPAQUE
SEQUENCE:0
UID:3372-veranstaltung@kirchgemeinde-ammerswil.ch
DTSTAMP:20260312T072635Z
DESCRIPTION:Kontakt: Pfarrer Michael Lo Sardo\n\nWeitere Infos:
  https://www.kirchgemeinde-ammerswil.ch/veranstaltung/3372
SUMMARY:Seniorenausflug
PRIORITY:5
X-MICROSOFT-CDO-IMPORTANCE:1
CLASS:PUBLIC
END:VEVENT
END:VCALENDAR
