BEGIN:VCALENDAR
PRODID:-//kirchenweb.ch gmbh//veranstaltungsausgabe v2.0//DE
VERSION:2.0
METHOD:PUBLISH
BEGIN:VEVENT
DTSTART:20260611T093000Z
DTEND:20260611T140000Z
LOCATION:Remise im Pfarrhof Ammerswil\, Hendschikerstrasse 12\, 5600
  Ammerswil
TRANSP:OPAQUE
SEQUENCE:0
UID:3373-veranstaltung@kirchgemeinde-ammerswil.ch
DTSTAMP:20260316T062047Z
DESCRIPTION:mit musikalischer Unterhaltung durch Ruth Amweg \n\nKontakt:
  Pfarrer Michael Lo Sardo\n\nWeitere Infos:
  https://www.kirchgemeinde-ammerswil.ch/veranstaltung/3373
SUMMARY:Grillplausch für Senioren
PRIORITY:5
X-MICROSOFT-CDO-IMPORTANCE:1
CLASS:PUBLIC
END:VEVENT
END:VCALENDAR
