BEGIN:VCALENDAR
PRODID:-//kirchenweb.ch gmbh//veranstaltungsausgabe v2.0//DE
VERSION:2.0
METHOD:PUBLISH
BEGIN:VEVENT
DTSTART:20260617T121500Z
DTEND:20260617T143000Z
LOCATION:im Wald \, \, 5600 Ammerswil
TRANSP:OPAQUE
SEQUENCE:0
UID:3375-veranstaltung@kirchgemeinde-ammerswil.ch
DTSTAMP:20260316T135659Z
DESCRIPTION:Kontakt: Mirjam Schmid\n\nWeitere Infos:
  https://www.kirchgemeinde-ammerswil.ch/veranstaltung/3375
SUMMARY:Rägeboge-Treff "Spiel- und Spassnachmittag im Wald"
PRIORITY:5
X-MICROSOFT-CDO-IMPORTANCE:1
CLASS:PUBLIC
END:VEVENT
END:VCALENDAR
